BEGIN:VCALENDAR
VERSION:2.0
PRODID:SchoolNow
CALSCALE:GREGORIAN
BEGIN:VEVENT
UID:a003062e-88d0-11f0-b715-0affc1bf85c7
DTSTAMP:20250903T141646Z
SUMMARY:Glen St. Johns CDD Board Meeting - Sept. 2026
LOCATION:St. Johns County Airport Authority\, 4730 Casa Cola Way\, St. Augu
 stine FL 32095
URL;VALUE=URI:https://www.glenstjohnscdd.org/calendar/8574358/glen-st-johns
 -cdd-board-meeting-sept-2026
DTSTART:20260916T140000Z
DTEND:20260916T150000Z
END:VEVENT
END:VCALENDAR
