BEGIN:VCALENDAR
VERSION:2.0
PRODID:SchoolNow
CALSCALE:GREGORIAN
BEGIN:VEVENT
UID:947742d4-88d0-11f0-b5ac-0a58a9feac02
DTSTAMP:20250903T141627Z
SUMMARY:Glen St. Johns CDD Board Meeting - Aug. 2026
LOCATION:St. Johns County Airport Authority\, 4730 Casa Cola Way\, St. Augu
 stine FL 32095
URL;VALUE=URI:https://www.glenstjohnscdd.org/calendar/8574357/glen-st-johns
 -cdd-board-meeting-aug-2026
DTSTART:20260819T140000Z
DTEND:20260819T150000Z
END:VEVENT
END:VCALENDAR
