BEGIN:VCALENDAR
VERSION:2.0
PRODID:SchoolNow
CALSCALE:GREGORIAN
BEGIN:VEVENT
UID:8c192e4a-88d0-11f0-b7ea-0a58a9feac02
DTSTAMP:20250903T141613Z
SUMMARY:Glen St. Johns CDD Board Meeting - Jun. 2026
LOCATION:St. Johns County Airport Authority\, 4730 Casa Cola Way\, St. Augu
 stine FL 32095
URL;VALUE=URI:https://www.glenstjohnscdd.org/calendar/8574356/glen-st-johns
 -cdd-board-meeting-jun-2026
DTSTART:20260617T140000Z
DTEND:20260617T150000Z
END:VEVENT
END:VCALENDAR
