BEGIN:VCALENDAR
VERSION:2.0
PRODID:SchoolNow
CALSCALE:GREGORIAN
BEGIN:VEVENT
UID:82cbd8ce-88d0-11f0-8df9-0affee066179
DTSTAMP:20260408T213746Z
SUMMARY:Glen St. Johns CDD Board Meeting - Apr. 2026
LOCATION:St. Johns County Airport Authority\, 4730 Casa Cola Way\, St. Augu
 stine FL 32095
URL;VALUE=URI:https://www.glenstjohnscdd.org/calendar/8574354/glen-st-johns
 -cdd-board-meeting-apr-2026
DTSTART:20260415T140000Z
DTEND:20260415T150000Z
ATTACH;FILENAME=2026-04-15 - Glen St Johns CDD - Final Agenda.pdf;FMTTYPE=a
 pplication/pdf:https://campussuite-storage.s3.amazonaws.com/prod/1558921/a
 c097d7e-eaaa-11e9-ad80-0aa01e52b234/3087758/7418eca2-3390-11f1-a7ac-0a58a9
 feac02/file/2026-04-15 - Glen St Johns CDD - Final Agenda.pdf
END:VEVENT
END:VCALENDAR
