BEGIN:VCALENDAR
VERSION:2.0
PRODID:SchoolNow
CALSCALE:GREGORIAN
BEGIN:VEVENT
UID:7b5c1b62-88d0-11f0-9fd3-0a58a9feac02
DTSTAMP:20260318T144650Z
SUMMARY:Glen St. Johns CDD Board Meeting - Mar. 2026 - Cancelled
LOCATION:St. Johns County Airport Authority\, 4730 Casa Cola Way\, St. Augu
 stine FL 32095
URL;VALUE=URI:https://www.glenstjohnscdd.org/calendar/8574353/glen-st-johns
 -cdd-board-meeting-mar-2026
DTSTART:20260325T140000Z
DTEND:20260325T150000Z
END:VEVENT
END:VCALENDAR
