BEGIN:VCALENDAR
VERSION:2.0
PRODID:SchoolNow
CALSCALE:GREGORIAN
BEGIN:VEVENT
UID:671da35a-88d0-11f0-bc66-0a58a9feac02
DTSTAMP:20251205T193048Z
SUMMARY:Glen St. Johns CDD Board Meeting - Dec. 2025
LOCATION:St. Johns County Airport Authority\, 4730 Casa Cola Way\, St. Augu
 stine FL 32095
URL;VALUE=URI:https://www.glenstjohnscdd.org/calendar/8574351/glen-st-johns
 -cdd-board-meeting-dec-2025
DTSTART:20251210T150000Z
DTEND:20251210T160000Z
ATTACH;FILENAME=2025-12-10 - Glen St Johns CDD - Final Agenda.pdf;FMTTYPE=a
 pplication/pdf:https://campussuite-storage.s3.amazonaws.com/prod/1558921/a
 c097d7e-eaaa-11e9-ad80-0aa01e52b234/3046944/1eb152f6-d083-11f0-8a59-02ea71
 babd91/file/2025-12-10 - Glen St Johns CDD - Final Agenda.pdf
ATTACH;FILENAME=2025-12-10 - Glen St Johns CDD - Revised Final Agenda Packa
 ge.pdf;FMTTYPE=application/pdf:https://campussuite-storage.s3.amazonaws.co
 m/prod/1558921/ac097d7e-eaaa-11e9-ad80-0aa01e52b234/3048249/e4460eb0-d210-
 11f0-a641-0e93377aa41f/file/2025-12-10 - Glen St Johns CDD - Revised Final
  Agenda Package.pdf
END:VEVENT
END:VCALENDAR
