BEGIN:VCALENDAR
VERSION:2.0
PRODID:SchoolNow
CALSCALE:GREGORIAN
BEGIN:VEVENT
UID:5f120386-88d0-11f0-8db6-0affe63eb943
DTSTAMP:20251007T160209Z
SUMMARY:Glen St. Johns CDD Board Meeting - Oct. 2025 - Cancelled
LOCATION:St. Johns County Airport Authority\, 4730 Casa Cola Way\, St. Augu
 stine FL 32095
URL;VALUE=URI:https://www.glenstjohnscdd.org/calendar/8574350/glen-st-johns
 -cdd-board-meeting-oct-2025
DTSTART:20251015T140000Z
DTEND:20251015T150000Z
END:VEVENT
END:VCALENDAR
