BEGIN:VCALENDAR
VERSION:2.0
PRODID:SchoolNow
CALSCALE:GREGORIAN
BEGIN:VEVENT
UID:bbabfe38-365c-11f0-9865-0a58a9feac02
DTSTAMP:20250521T160036Z
SUMMARY:Glen St. Johns CDD Board Meeting - Jun. 2025 - Cancelled
LOCATION:St. Johns County Airport Authority\, 4730 Casa Cola Way\, St. Augu
 stine FL 32095
URL;VALUE=URI:https://www.glenstjohnscdd.org/calendar/8174429/glen-st-johns
 -cdd-board-meeting-jun-2025-cancelled
DTSTART:20250618T140000Z
DTEND:20250618T150000Z
END:VEVENT
END:VCALENDAR
