BEGIN:VCALENDAR
VERSION:2.0
PRODID:SchoolNow
CALSCALE:GREGORIAN
BEGIN:VEVENT
UID:0e35e792-2f49-11f0-9646-02ea3126bc8d
DTSTAMP:20250514T202951Z
SUMMARY:Glen St. Johns CDD Special Board Meeting - May 2025
LOCATION:St. Johns County Airport Authority\, 4730 Casa Cola Way\, St. Augu
 stine FL 32095
URL;VALUE=URI:https://www.glenstjohnscdd.org/calendar/8119284/glen-st-johns
 -cdd-special-board-meeting-may-2025
DTSTART:20250521T140000Z
DTEND:20250521T150000Z
ATTACH;FILENAME=2025-05-21 - Glen St Johns CDD - Final Agenda.pdf;FMTTYPE=a
 pplication/pdf:https://campussuite-storage.s3.amazonaws.com/prod/1558921/a
 c097d7e-eaaa-11e9-ad80-0aa01e52b234/2954065/2d0f823a-3102-11f0-aed8-024099
 920871/file/2025-05-21 - Glen St Johns CDD - Final Agenda.pdf
END:VEVENT
END:VCALENDAR
