BEGIN:VCALENDAR
VERSION:2.0
PRODID:SchoolNow
CALSCALE:GREGORIAN
BEGIN:VEVENT
UID:fe7eb83e-662a-11ef-a695-0a58a9feac02
DTSTAMP:20250910T202314Z
SUMMARY:Glen St. Johns CDD Board Meeting - Sept. 2025
LOCATION:St. Johns County Airport Authority\, 4730 Casa Cola Way\, St. Augu
 stine FL 32095
URL;VALUE=URI:https://www.glenstjohnscdd.org/calendar/6481647/glen-st-johns
 -cdd-board-meeting-sept-2025
DTSTART:20250917T140000Z
DTEND:20250917T150000Z
ATTACH;FILENAME=2025-09-17 - Glen St Johns CDD - Final Agenda Package.pdf;F
 MTTYPE=application/pdf:https://campussuite-storage.s3.amazonaws.com/prod/1
 558921/ac097d7e-eaaa-11e9-ad80-0aa01e52b234/3005881/f36a8f4a-8e83-11f0-987
 a-0a58a9feac02/file/2025-09-17 - Glen St Johns CDD - Final Agenda Package.
 pdf
END:VEVENT
END:VCALENDAR
