BEGIN:VCALENDAR
VERSION:2.0
PRODID:SchoolNow
CALSCALE:GREGORIAN
BEGIN:VEVENT
UID:f603cb5e-662a-11ef-ad93-0a58a9feac02
DTSTAMP:20250813T195538Z
SUMMARY:Glen St. Johns CDD Board Meeting - Aug. 2025
LOCATION:St. Johns County Airport Authority\, 4730 Casa Cola Way\, St. Augu
 stine FL 32095
URL;VALUE=URI:https://www.glenstjohnscdd.org/calendar/6481646/glen-st-johns
 -cdd-board-meeting-aug-2025
DTSTART:20250820T140000Z
DTEND:20250820T150000Z
ATTACH;FILENAME=2025-08-20 - Glen St Johns CDD - Final Agenda Package.pdf;F
 MTTYPE=application/pdf:https://campussuite-storage.s3.amazonaws.com/prod/1
 558921/ac097d7e-eaaa-11e9-ad80-0aa01e52b234/2992807/717dffb8-787f-11f0-9c1
 3-0a58a9feac02/file/2025-08-20 - Glen St Johns CDD - Final Agenda Package.
 pdf
END:VEVENT
END:VCALENDAR
