BEGIN:VCALENDAR
VERSION:2.0
PRODID:SchoolNow
CALSCALE:GREGORIAN
BEGIN:VEVENT
UID:eb2423b4-662a-11ef-b585-0a58a9feac02
DTSTAMP:20250605T192246Z
SUMMARY:Glen St. Johns CDD Board Meeting - Jun. 2025
LOCATION:St. Johns County Airport Authority\, 4730 Casa Cola Way\, St. Augu
 stine FL 32095
URL;VALUE=URI:https://www.glenstjohnscdd.org/calendar/6481645/glen-st-johns
 -cdd-board-meeting-jun-2025
DTSTART:20250611T140000Z
DTEND:20250611T150000Z
ATTACH;FILENAME=2025-06-11 - Glen St Johns CDD - Final Agenda.pdf;FMTTYPE=a
 pplication/pdf:https://campussuite-storage.s3.amazonaws.com/prod/1558921/a
 c097d7e-eaaa-11e9-ad80-0aa01e52b234/2965111/72c096f6-4242-11f0-bda0-0262e4
 41cb45/file/2025-06-11 - Glen St Johns CDD - Final Agenda.pdf
END:VEVENT
END:VCALENDAR
